BEGIN:VCALENDAR
VERSION:2.0
PRODID:SchoolNow
CALSCALE:GREGORIAN
BEGIN:VEVENT
UID:aed78e1e-8246-11e9-b658-0a04d8da078e
DTSTAMP:20190529T192259Z
SUMMARY:Registration/Residency Day for new families (by appointment\, pleas
 e call 847-966-9280)
URL;VALUE=URI:https://www.niles71.org/about-us/calendar/1992929/registratio
 n-residency-day-for-new-families-by-appointment
DTSTART:20190815T080000Z
DTEND:20190815T120000Z
END:VEVENT
END:VCALENDAR
