BEGIN:VCALENDAR
VERSION:2.0
PRODID:SchoolNow
CALSCALE:GREGORIAN
BEGIN:VEVENT
UID:dcd905c4-824e-11e9-9d7d-0a04d8da078e
DTSTAMP:20190529T202234Z
SUMMARY:Board of Education Meeting
URL;VALUE=URI:https://www.niles71.org/about-us/calendar/1992967/board-of-ed
 ucation-meeting
DTSTART:20190716T183000Z
DTEND:20190717T193000Z
END:VEVENT
END:VCALENDAR
