BEGIN:VCALENDAR
VERSION:2.0
PRODID:SchoolNow
CALSCALE:GREGORIAN
BEGIN:VEVENT
UID:b9629f28-824f-11e9-ae06-0afc57734c36
DTSTAMP:20190529T202413Z
SUMMARY:Board of Education Meeting
URL;VALUE=URI:https://www.niles71.org/about-us/calendar/1992968/board-of-ed
 ucation-meeting
DTSTART:20190820T183000Z
DTEND:20190820T192300Z
END:VEVENT
END:VCALENDAR
