BEGIN:VCALENDAR
VERSION:2.0
PRODID:SchoolNow
CALSCALE:GREGORIAN
BEGIN:VEVENT
UID:6fb3d3f4-8251-11e9-a06f-0a8013a22e92
DTSTAMP:20190529T203628Z
SUMMARY:Board of Education Meeting
URL;VALUE=URI:https://www.niles71.org/about-us/calendar/1992969/board-of-ed
 ucation-meeting
DTSTART:20190917T183000Z
DTEND:20190917T203500Z
END:VEVENT
END:VCALENDAR
