BEGIN:VCALENDAR
VERSION:2.0
PRODID:SchoolNow
CALSCALE:GREGORIAN
BEGIN:VEVENT
UID:a57d48ee-8251-11e9-8d20-0a8013a22e92
DTSTAMP:20190529T203759Z
SUMMARY:Board of Education Meeting
URL;VALUE=URI:https://www.niles71.org/about-us/calendar/1992970/board-of-ed
 ucation-meeting
DTSTART:20191015T183000Z
DTEND:20191015T233700Z
END:VEVENT
END:VCALENDAR
