BEGIN:VCALENDAR
VERSION:2.0
PRODID:SchoolNow
CALSCALE:GREGORIAN
BEGIN:VEVENT
UID:d14fd572-8251-11e9-810b-0a8013a22e92
DTSTAMP:20190529T203912Z
SUMMARY:Board of Education Meeting
URL;VALUE=URI:https://www.niles71.org/about-us/calendar/1992971/board-of-ed
 ucation-meeting
DTSTART:20191119T183000Z
DTEND:20191119T233800Z
END:VEVENT
END:VCALENDAR
