BEGIN:VCALENDAR
VERSION:2.0
PRODID:SchoolNow
CALSCALE:GREGORIAN
BEGIN:VEVENT
UID:25d7d48c-8252-11e9-ba4d-12cb4922c2ce
DTSTAMP:20190529T204134Z
SUMMARY:Board of Education Meeting
URL;VALUE=URI:https://www.niles71.org/about-us/calendar/1992972/board-of-ed
 ucation-meeting
DTSTART:20191210T160000Z
DTEND:20191210T173900Z
END:VEVENT
END:VCALENDAR
