BEGIN:VCALENDAR
VERSION:2.0
PRODID:SchoolNow
CALSCALE:GREGORIAN
BEGIN:VEVENT
UID:efbcd536-8252-11e9-9233-120abc83b72c
DTSTAMP:20190529T204713Z
SUMMARY:Board of Education Meeting
URL;VALUE=URI:https://www.niles71.org/about-us/calendar/1992973/board-of-ed
 ucation-meeting
DTSTART:20200121T183000Z
DTEND:20200121T193000Z
END:VEVENT
END:VCALENDAR
