BEGIN:VCALENDAR
VERSION:2.0
PRODID:SchoolNow
CALSCALE:GREGORIAN
BEGIN:VEVENT
UID:7d84df66-83e4-11e9-948a-12a4c25a29ae
DTSTAMP:20190531T204139Z
SUMMARY:Board of Education Meeting
URL;VALUE=URI:https://www.niles71.org/about-us/calendar/1995061/board-of-ed
 ucation-meeting
DTSTART:20200218T183000Z
DTEND:20200218T234000Z
END:VEVENT
END:VCALENDAR
