BEGIN:VCALENDAR
VERSION:2.0
PRODID:SchoolNow
CALSCALE:GREGORIAN
BEGIN:VEVENT
UID:c8d451b8-83e4-11e9-9a02-12af7520393a
DTSTAMP:20190531T204345Z
SUMMARY:Board of Education Meeting
URL;VALUE=URI:https://www.niles71.org/about-us/calendar/1995063/board-of-ed
 ucation-meeting
DTSTART:20200421T183000Z
DTEND:20200421T214300Z
END:VEVENT
END:VCALENDAR
