BEGIN:VCALENDAR
VERSION:2.0
PRODID:SchoolNow
CALSCALE:GREGORIAN
BEGIN:VEVENT
UID:e3f3f6b0-83e4-11e9-bf38-12af7520393a
DTSTAMP:20190531T204431Z
SUMMARY:Board of Education Meeting
URL;VALUE=URI:https://www.niles71.org/about-us/calendar/1995064/board-of-ed
 ucation-meeting
DTSTART:20200519T183000Z
DTEND:20200519T214300Z
END:VEVENT
END:VCALENDAR
