BEGIN:VCALENDAR
VERSION:2.0
PRODID:SchoolNow
CALSCALE:GREGORIAN
BEGIN:VEVENT
UID:f438f930-83e4-11e9-9485-12af7520393a
DTSTAMP:20190531T204458Z
SUMMARY:Board of Education Meeting
URL;VALUE=URI:https://www.niles71.org/about-us/calendar/1995065/board-of-ed
 ucation-meeting
DTSTART:20200616T183000Z
DTEND:20200616T214400Z
END:VEVENT
END:VCALENDAR
