BEGIN:VCALENDAR
VERSION:2.0
PRODID:SchoolNow
CALSCALE:GREGORIAN
BEGIN:VEVENT
UID:789ead6e-83e5-11e9-bb7a-0a0febb87f66
DTSTAMP:20190531T204944Z
SUMMARY:First Day of School Grades 1-8
URL;VALUE=URI:https://www.niles71.org/about-us/calendar/1995066/first-day-o
 f-school-grades-1-8
DTSTART:20190828T075500Z
DTEND:20190828T150000Z
END:VEVENT
END:VCALENDAR
