BEGIN:VCALENDAR
VERSION:2.0
PRODID:SchoolNow
CALSCALE:GREGORIAN
BEGIN:VEVENT
UID:d961ce42-83e5-11e9-9cdc-0a0febb87f66
DTSTAMP:20190531T205122Z
SUMMARY:Kindergarten Information Night
URL;VALUE=URI:https://www.niles71.org/about-us/calendar/1995067/kindergarte
 n-indformation-night
DTSTART:20190828T173000Z
DTEND:20190828T182600Z
END:VEVENT
END:VCALENDAR
