BEGIN:VCALENDAR
VERSION:2.0
PRODID:SchoolNow
CALSCALE:GREGORIAN
BEGIN:VEVENT
UID:eeac3c74-83e5-11e9-84b2-0a0febb87f66
DTSTAMP:20190531T205158Z
SUMMARY:Preschool Information Night
URL;VALUE=URI:https://www.niles71.org/about-us/calendar/1995068/preschool-i
 nformation-night
DTSTART:20190828T183000Z
DTEND:20190828T215100Z
END:VEVENT
END:VCALENDAR
