BEGIN:VCALENDAR
VERSION:2.0
PRODID:SchoolNow
CALSCALE:GREGORIAN
BEGIN:VEVENT
UID:543b2b9a-83e6-11e9-87b4-12af7520393a
DTSTAMP:20190610T143301Z
SUMMARY:First Full Day of School for Kindergarten
URL;VALUE=URI:https://www.niles71.org/about-us/calendar/1995069/first-full-
 day-of-school-for-kindergarten
DTSTART:20190830T075500Z
DTEND:20190830T150000Z
END:VEVENT
END:VCALENDAR
