BEGIN:VCALENDAR
VERSION:2.0
PRODID:SchoolNow
CALSCALE:GREGORIAN
BEGIN:VEVENT
UID:7fc4a250-83e6-11e9-be5d-1221224d15a8
DTSTAMP:20190603T124930Z
SUMMARY:First Full Day of Preschool
URL;VALUE=URI:https://www.niles71.org/about-us/calendar/1995070/first-full-
 day-of-preschool
DTSTART:20190830T083000Z
DTEND:20190830T093000Z
END:VEVENT
END:VCALENDAR
