BEGIN:VCALENDAR
VERSION:2.0
PRODID:SchoolNow
CALSCALE:GREGORIAN
BEGIN:VEVENT
UID:17c2c09c-8b8e-11e9-bc0b-12e05ca9f25a
DTSTAMP:20190930T132123Z
SUMMARY:Picture Day
URL;VALUE=URI:https://www.niles71.org/about-us/calendar/2000815/picture-day
DTSTART:20191022T080000Z
DTEND:20191022T090000Z
END:VEVENT
END:VCALENDAR
