BEGIN:VCALENDAR
VERSION:2.0
PRODID:SchoolNow
CALSCALE:GREGORIAN
BEGIN:VEVENT
UID:a002cede-8b8e-11e9-a4c6-12e05ca9f25a
DTSTAMP:20190610T155314Z
SUMMARY:No School -- Teacher Institute Day
URL;VALUE=URI:https://www.niles71.org/about-us/calendar/2000816/teacher-ins
 titute-day
DTSTART:20190826T184600Z
DTEND:20190826T194600Z
END:VEVENT
END:VCALENDAR
