BEGIN:VCALENDAR
VERSION:2.0
PRODID:SchoolNow
CALSCALE:GREGORIAN
BEGIN:VEVENT
UID:c4cb8788-8b8e-11e9-87bc-12e05ca9f25a
DTSTAMP:20190610T155324Z
SUMMARY:No School -- Teacher Institute Day
URL;VALUE=URI:https://www.niles71.org/about-us/calendar/2000818/teacher-ins
 titute-day
DTSTART:20190827T144700Z
DTEND:20190827T154700Z
END:VEVENT
END:VCALENDAR
