BEGIN:VCALENDAR
VERSION:2.0
PRODID:SchoolNow
CALSCALE:GREGORIAN
BEGIN:VEVENT
UID:de4dbd48-8b8e-11e9-8c44-12e05ca9f25a
DTSTAMP:20190610T144854Z
SUMMARY:No School -- Labor Day
URL;VALUE=URI:https://www.niles71.org/about-us/calendar/2000819/no-school-l
 abor-day
DTSTART:20190902T144800Z
DTEND:20190902T154800Z
END:VEVENT
END:VCALENDAR
