BEGIN:VCALENDAR
VERSION:2.0
PRODID:SchoolNow
CALSCALE:GREGORIAN
BEGIN:VEVENT
UID:00d0a6e6-8b8f-11e9-8e8a-12e05ca9f25a
DTSTAMP:20190610T144952Z
SUMMARY:No School -- Columbus Day
URL;VALUE=URI:https://www.niles71.org/about-us/calendar/2000820/no-school-c
 olubus-day
DTSTART:20191014T144900Z
DTEND:20191014T154900Z
END:VEVENT
END:VCALENDAR
