BEGIN:VCALENDAR
VERSION:2.0
PRODID:SchoolNow
CALSCALE:GREGORIAN
BEGIN:VEVENT
UID:3cf8d3b4-8b8f-11e9-b01d-1282db12e790
DTSTAMP:20190610T155343Z
SUMMARY:No School -- Teacher Institute Day
URL;VALUE=URI:https://www.niles71.org/about-us/calendar/2000821/teacher-ins
 titure-day
DTSTART:20191101T145000Z
DTEND:20191101T155000Z
END:VEVENT
END:VCALENDAR
