BEGIN:VCALENDAR
VERSION:2.0
PRODID:SchoolNow
CALSCALE:GREGORIAN
BEGIN:VEVENT
UID:5554718e-8b8f-11e9-9d7d-1282db12e790
DTSTAMP:20190610T145213Z
SUMMARY:No School -- Veteran's Day
URL;VALUE=URI:https://www.niles71.org/about-us/calendar/2000822/no-school-v
 eterans-day
DTSTART:20191111T145100Z
DTEND:20191111T155100Z
END:VEVENT
END:VCALENDAR
