BEGIN:VCALENDAR
VERSION:2.0
PRODID:SchoolNow
CALSCALE:GREGORIAN
BEGIN:VEVENT
UID:9895c664-8b8f-11e9-a2fe-12f46ed82cec
DTSTAMP:20190610T155402Z
SUMMARY:No School -- Parent Teacher Conferences
URL;VALUE=URI:https://www.niles71.org/about-us/calendar/2000823/parent-teac
 her-conferences
DTSTART:20191126T145200Z
DTEND:20191126T155200Z
END:VEVENT
END:VCALENDAR
