BEGIN:VCALENDAR
VERSION:2.0
PRODID:SchoolNow
CALSCALE:GREGORIAN
BEGIN:VEVENT
UID:d9cc31c2-8b8f-11e9-b3d1-12e4504e499c
DTSTAMP:20190610T145556Z
SUMMARY:No School
URL;VALUE=URI:https://www.niles71.org/about-us/calendar/2000824/no-school
DTSTART:20191127T145500Z
DTEND:20191127T155500Z
END:VEVENT
END:VCALENDAR
