BEGIN:VCALENDAR
VERSION:2.0
PRODID:SchoolNow
CALSCALE:GREGORIAN
BEGIN:VEVENT
UID:eaa34b48-8b8f-11e9-9753-12e4504e499c
DTSTAMP:20190610T145624Z
SUMMARY:No School -- Thanksgiving
URL;VALUE=URI:https://www.niles71.org/about-us/calendar/2000825/no-school-t
 hanksgiving
DTSTART:20191128T145600Z
DTEND:20191128T155600Z
END:VEVENT
END:VCALENDAR
