BEGIN:VCALENDAR
VERSION:2.0
PRODID:SchoolNow
CALSCALE:GREGORIAN
BEGIN:VEVENT
UID:fbff939c-8b8f-11e9-bd93-12e4504e499c
DTSTAMP:20190610T145653Z
SUMMARY:No School
URL;VALUE=URI:https://www.niles71.org/about-us/calendar/2000826/no-school
DTSTART:20191129T145600Z
DTEND:20191129T155600Z
END:VEVENT
END:VCALENDAR
