BEGIN:VCALENDAR
VERSION:2.0
PRODID:SchoolNow
CALSCALE:GREGORIAN
BEGIN:VEVENT
UID:59c11d52-8b90-11e9-ac27-0a25d83eb1d8
DTSTAMP:20190610T155433Z
SUMMARY:No School -- Winter Break
URL;VALUE=URI:https://www.niles71.org/about-us/calendar/2000827/winter-brea
 k
DTSTART:20191223T145800Z
DTEND:20200103T155800Z
END:VEVENT
END:VCALENDAR
