BEGIN:VCALENDAR
VERSION:2.0
PRODID:SchoolNow
CALSCALE:GREGORIAN
BEGIN:VEVENT
UID:8014a8ec-8b96-11e9-8927-0a25d83eb1d8
DTSTAMP:20190610T154332Z
SUMMARY:No School -- Martin Luther King Jr. Day
URL;VALUE=URI:https://www.niles71.org/about-us/calendar/2000828/no-school-m
 artin-luther-king-jr-day
DTSTART:20200120T152100Z
DTEND:20200120T162100Z
END:VEVENT
END:VCALENDAR
