BEGIN:VCALENDAR
VERSION:2.0
PRODID:SchoolNow
CALSCALE:GREGORIAN
BEGIN:VEVENT
UID:9b949e8c-8b97-11e9-8592-12e4504e499c
DTSTAMP:20190610T155127Z
SUMMARY:No School -- President's Day
URL;VALUE=URI:https://www.niles71.org/about-us/calendar/2000832/no-school-p
 residents-day
DTSTART:20200217T154300Z
DTEND:20200217T164300Z
END:VEVENT
END:VCALENDAR
