BEGIN:VCALENDAR
VERSION:2.0
PRODID:SchoolNow
CALSCALE:GREGORIAN
BEGIN:VEVENT
UID:b457ce30-8b97-11e9-8757-12e4504e499c
DTSTAMP:20190610T163855Z
SUMMARY:No School -- Parent Teacher Conferences
URL;VALUE=URI:https://www.niles71.org/about-us/calendar/2000833/no-school-p
 arent-teacher-conferences
DTSTART:20200305T155100Z
DTEND:20200305T165100Z
END:VEVENT
END:VCALENDAR
