BEGIN:VCALENDAR
VERSION:2.0
PRODID:SchoolNow
CALSCALE:GREGORIAN
BEGIN:VEVENT
UID:cd727550-8b97-11e9-9401-12e4504e499c
DTSTAMP:20190610T155251Z
SUMMARY:No School -- Teacher Institute Day
URL;VALUE=URI:https://www.niles71.org/about-us/calendar/2000837/no-school-t
 eacher-institute-day
DTSTART:20200306T155200Z
DTEND:20200306T165200Z
END:VEVENT
END:VCALENDAR
