BEGIN:VCALENDAR
VERSION:2.0
PRODID:SchoolNow
CALSCALE:GREGORIAN
BEGIN:VEVENT
UID:46696874-8b98-11e9-98ac-12e4504e499c
DTSTAMP:20190610T155614Z
SUMMARY:No School -- Spring Break
URL;VALUE=URI:https://www.niles71.org/about-us/calendar/2000838/no-school-s
 pring-break
DTSTART:20200323T155500Z
DTEND:20200327T165500Z
END:VEVENT
END:VCALENDAR
