BEGIN:VCALENDAR
VERSION:2.0
PRODID:SchoolNow
CALSCALE:GREGORIAN
BEGIN:VEVENT
UID:5ebb85e2-8b98-11e9-acfc-12e4504e499c
DTSTAMP:20190610T155655Z
SUMMARY:No School
URL;VALUE=URI:https://www.niles71.org/about-us/calendar/2000839/no-school
DTSTART:20200410T155600Z
DTEND:20200410T165600Z
END:VEVENT
END:VCALENDAR
