BEGIN:VCALENDAR
VERSION:2.0
PRODID:SchoolNow
CALSCALE:GREGORIAN
BEGIN:VEVENT
UID:70554568-8b98-11e9-9f0c-12e4504e499c
DTSTAMP:20190610T155724Z
SUMMARY:No School -- Memorial Day
URL;VALUE=URI:https://www.niles71.org/about-us/calendar/2000840/no-school-m
 emorial-day
DTSTART:20200525T155600Z
DTEND:20200525T165600Z
END:VEVENT
END:VCALENDAR
