BEGIN:VCALENDAR
VERSION:2.0
PRODID:SchoolNow
CALSCALE:GREGORIAN
BEGIN:VEVENT
UID:3530b772-8b9f-11e9-9cc4-0a25d83eb1d8
DTSTAMP:20190610T165015Z
SUMMARY:Early Release Day
URL;VALUE=URI:https://www.niles71.org/about-us/calendar/2000841/early-relea
 se-day
DTSTART:20190927T113000Z
DTEND:20190927T123000Z
END:VEVENT
END:VCALENDAR
