BEGIN:VCALENDAR
VERSION:2.0
PRODID:SchoolNow
CALSCALE:GREGORIAN
BEGIN:VEVENT
UID:fa46c538-8b9f-11e9-8478-0a25d83eb1d8
DTSTAMP:20190610T200318Z
SUMMARY:Early Release Day
URL;VALUE=URI:https://www.niles71.org/about-us/calendar/2000848/early-relea
 se-day
DTSTART:20191031T113000Z
DTEND:20191031T145000Z
END:VEVENT
END:VCALENDAR
