BEGIN:VCALENDAR
VERSION:2.0
PRODID:SchoolNow
CALSCALE:GREGORIAN
BEGIN:VEVENT
UID:58501c56-8ba0-11e9-9881-0a25d83eb1d8
DTSTAMP:20190610T165400Z
SUMMARY:Early Release Day
URL;VALUE=URI:https://www.niles71.org/about-us/calendar/2000849/early-relea
 se-day
DTSTART:20191125T113000Z
DTEND:20191126T005300Z
END:VEVENT
END:VCALENDAR
