BEGIN:VCALENDAR
VERSION:2.0
PRODID:SchoolNow
CALSCALE:GREGORIAN
BEGIN:VEVENT
UID:0067a776-8bb8-11e9-89b9-0addad93bc5a
DTSTAMP:20190610T194320Z
SUMMARY:Early Release Day
URL;VALUE=URI:https://www.niles71.org/about-us/calendar/2001181/eearly-rele
 ase-day
DTSTART:20191220T113000Z
DTEND:20191221T004100Z
END:VEVENT
END:VCALENDAR
