BEGIN:VCALENDAR
VERSION:2.0
PRODID:SchoolNow
CALSCALE:GREGORIAN
BEGIN:VEVENT
UID:204e45e4-8bb9-11e9-96d8-0a593f4cc6e4
DTSTAMP:20190610T195712Z
SUMMARY:Early Release Day
URL;VALUE=URI:https://www.niles71.org/about-us/calendar/2002120/early-relea
 se-day
DTSTART:20200214T113000Z
DTEND:20200215T005000Z
END:VEVENT
END:VCALENDAR
