BEGIN:VCALENDAR
VERSION:2.0
PRODID:SchoolNow
CALSCALE:GREGORIAN
BEGIN:VEVENT
UID:4d459854-8bb9-11e9-a690-0a593f4cc6e4
DTSTAMP:20190610T195259Z
SUMMARY:Early Release Day
URL;VALUE=URI:https://www.niles71.org/about-us/calendar/2002122/early-relea
 se-day
DTSTART:20200424T113000Z
DTEND:20200425T005200Z
END:VEVENT
END:VCALENDAR
