BEGIN:VCALENDAR
VERSION:2.0
PRODID:SchoolNow
CALSCALE:GREGORIAN
BEGIN:VEVENT
UID:19518e7e-c384-11e9-8315-0aa62a5ac28e
DTSTAMP:20190820T195440Z
SUMMARY:Curriculum  Night Pre-K - 8
URL;VALUE=URI:https://www.niles71.org/about-us/calendar/2069248/curriculum-
 night
DTSTART:20190910T180000Z
DTEND:20190910T200000Z
END:VEVENT
END:VCALENDAR
