BEGIN:VCALENDAR
VERSION:2.0
PRODID:SchoolNow
CALSCALE:GREGORIAN
BEGIN:VEVENT
UID:947f6b7a-c384-11e9-b317-0aa62a5ac28e
DTSTAMP:20190820T195620Z
SUMMARY:PTA Back To School Bash
URL;VALUE=URI:https://www.niles71.org/about-us/calendar/2069250/pta-back-to
 -school-bash
DTSTART:20190906T170000Z
DTEND:20190906T190000Z
END:VEVENT
END:VCALENDAR
