BEGIN:VCALENDAR
VERSION:2.0
PRODID:SchoolNow
CALSCALE:GREGORIAN
BEGIN:VEVENT
UID:1985d008-c5be-11e9-8524-1277e7918624
DTSTAMP:20190823T155307Z
SUMMARY:PTA Meeting
URL;VALUE=URI:https://www.niles71.org/about-us/calendar/2071777/pta-meeting
DTSTART:20190916T190000Z
DTEND:20190916T205200Z
END:VEVENT
END:VCALENDAR
