BEGIN:VCALENDAR
VERSION:2.0
PRODID:SchoolNow
CALSCALE:GREGORIAN
BEGIN:VEVENT
UID:3f2f5626-c5be-11e9-8271-1277e7918624
DTSTAMP:20190823T155410Z
SUMMARY:PTA Meeting
URL;VALUE=URI:https://www.niles71.org/about-us/calendar/2071778/pta-meeting
DTSTART:20191021T190000Z
DTEND:20191021T205300Z
END:VEVENT
END:VCALENDAR
