BEGIN:VCALENDAR
VERSION:2.0
PRODID:SchoolNow
CALSCALE:GREGORIAN
BEGIN:VEVENT
UID:5c2bb486-c5be-11e9-bba0-1277e7918624
DTSTAMP:20190823T155459Z
SUMMARY:PTA Meeting
URL;VALUE=URI:https://www.niles71.org/about-us/calendar/2071779/pta-meeting
DTSTART:20191202T190000Z
DTEND:20191202T205400Z
END:VEVENT
END:VCALENDAR
