BEGIN:VCALENDAR
VERSION:2.0
PRODID:SchoolNow
CALSCALE:GREGORIAN
BEGIN:VEVENT
UID:d512ae36-c5be-11e9-938e-1277e7918624
DTSTAMP:20190823T155822Z
SUMMARY:PTA Meeting
URL;VALUE=URI:https://www.niles71.org/about-us/calendar/2071781/pta-meeting
DTSTART:20200113T190000Z
DTEND:20200113T205500Z
END:VEVENT
END:VCALENDAR
