BEGIN:VCALENDAR
VERSION:2.0
PRODID:SchoolNow
CALSCALE:GREGORIAN
BEGIN:VEVENT
UID:e628c304-c5be-11e9-b09b-1277e7918624
DTSTAMP:20190823T155850Z
SUMMARY:PTA Meeting
URL;VALUE=URI:https://www.niles71.org/about-us/calendar/2071782/pta-meeting
DTSTART:20200210T190000Z
DTEND:20200210T205800Z
END:VEVENT
END:VCALENDAR
