BEGIN:VCALENDAR
VERSION:2.0
PRODID:SchoolNow
CALSCALE:GREGORIAN
BEGIN:VEVENT
UID:4fc01ffa-d40c-11e9-8d19-124385ee2068
DTSTAMP:20190910T204815Z
SUMMARY:Parent Teacher Conferences
URL;VALUE=URI:https://www.niles71.org/about-us/calendar/2088996/parent-teac
 her-conferences
DTSTART:20191125T160000Z
DTEND:20191125T203000Z
END:VEVENT
END:VCALENDAR
